BEGIN:VCALENDAR
VERSION:2.0
PRODID:-//ISOCARP - ECPv6.15.20//NONSGML v1.0//EN
CALSCALE:GREGORIAN
METHOD:PUBLISH
X-WR-CALNAME:ISOCARP
X-ORIGINAL-URL:https://isocarp.org
X-WR-CALDESC:Events for ISOCARP
REFRESH-INTERVAL;VALUE=DURATION:PT1H
X-Robots-Tag:noindex
X-PUBLISHED-TTL:PT1H
BEGIN:VTIMEZONE
TZID:UTC
BEGIN:STANDARD
TZOFFSETFROM:+0000
TZOFFSETTO:+0000
TZNAME:UTC
DTSTART:20200101T000000
END:STANDARD
END:VTIMEZONE
BEGIN:VEVENT
DTSTART;VALUE=DATE:20210716
DTEND;VALUE=DATE:20210717
DTSTAMP:20260420T143639
CREATED:20210712T062234Z
LAST-MODIFIED:20210712T072737Z
UID:60080-1626393600-1626479999@isocarp.org
SUMMARY:Urban Lab Session: Championing Local Green Deals
DESCRIPTION:Championing Local Green Deals\nOnline | July 16\, 2021\nThe Urban Lab Session “Championing Local Green Deals” will take place online on 16th July\, 9.30-11.00 CEST. The event is coordinated by ISOCARP Institute and it is part of the 3-day Urban Thinker Campus “A Local Green Deal”\, organised by Studieninstitut Rhein-Neckar (Mannheim\, Germany). \nThrough the European Green Deal\, the European Union has set the ambitious target of becoming the first carbon-neutral continent by 2050.  The European Green Deal includes various actions\, measures and tools in nine policy areas (such as clean energy\, sustainable mobility\, biodiversity\, etc.). However\, it is crucial to transform the direction given by the Green Deal into local actionable projects and concrete interventions. Following Mannheim’s input and effort to develop a Local Green Deal Mannheim\, this Urban Lab Session will collect and discuss valuable practices and experiences in the implementation of Local Green Deals. \nMore information on how to register as a participant or contributor here!
URL:https://isocarp.org/event/urban-lab-session-championing-local-green-deals/
ATTACH;FMTTYPE=image/gif:https://isocarp.org/app/uploads/2021/07/UTC-Mannheim-Banner-General-GIF.gif
END:VEVENT
END:VCALENDAR