BEGIN:VCALENDAR
VERSION:2.0
PRODID:-//ISOCARP - ECPv6.15.20//NONSGML v1.0//EN
CALSCALE:GREGORIAN
METHOD:PUBLISH
X-ORIGINAL-URL:https://isocarp.org
X-WR-CALDESC:Events for ISOCARP
REFRESH-INTERVAL;VALUE=DURATION:PT1H
X-Robots-Tag:noindex
X-PUBLISHED-TTL:PT1H
BEGIN:VTIMEZONE
TZID:UTC
BEGIN:STANDARD
TZOFFSETFROM:+0000
TZOFFSETTO:+0000
TZNAME:UTC
DTSTART:20200101T000000
END:STANDARD
END:VTIMEZONE
BEGIN:VEVENT
DTSTART;VALUE=DATE:20210916
DTEND;VALUE=DATE:20210918
DTSTAMP:20260420T170725
CREATED:20210712T070728Z
LAST-MODIFIED:20210712T070728Z
UID:60102-1631750400-1631923199@isocarp.org
SUMMARY:SRIP Smart Cities 2021
DESCRIPTION:Activities of European cities to achieve climate neutrality\nLjubljana\, Slovenia | September 16-17\, 2021\nSRIP Smart Cities and Communities in cooperation with the Jožef Stefan Institute\, the Urban Institute of the Republic of Slovenia\, CER – Partnership for the Sustainable Economy of Slovenia and the Association of Municipalities of Slovenia invites you to a scientific conference entitled Activities of European Cities for Climate Neutrality. We have decided to hold a scientific conference in the light of Europe’s efforts to become climate-neutral by 2050\, led by new European Commission missions\, including the ‘100 Climate-neutral cities by 2030 – for citizens’ mission. In this mission\, the Commission will support and promote 100 European cities on their path to carbon neutrality. The topics of the conference will shed light on some of the issues facing and will be encountered by cities on their path to climate neutrality. Cities and their representatives will gain insight into possible proposals and solutions to the problems that await them in establishing climate neutrality. The conference will address three topics\, all three of which are equally important in achieving climate neutrality. The first topic concerns the production\, storage and distribution of renewable energy sources\, the second topic presents possible solutions to tackle greenhouse gas emissions\, especially CO2\, the highest among them. The third topic will address mobility\, and how new forms of mobility can help reduce CO2 emissions. The conference will host experts from various fields at four round tables/panels\, which will shed additional light on the topics that await us on the path to achieving climate neutrality in the coming years. \nCall for abstracts are due on June 21\, 2021! \nPlease find the conference brochure here. \nFor more information\, visit the conference website!
URL:https://isocarp.org/event/srip-smart-cities-2021/
ATTACH;FMTTYPE=image/jpeg:https://isocarp.org/app/uploads/2021/04/konferenca-ENG-002.jpg
END:VEVENT
END:VCALENDAR