BEGIN:VCALENDAR
VERSION:2.0
PRODID:-//ISOCARP - ECPv6.15.20//NONSGML v1.0//EN
CALSCALE:GREGORIAN
METHOD:PUBLISH
X-ORIGINAL-URL:https://isocarp.org
X-WR-CALDESC:Events for ISOCARP
REFRESH-INTERVAL;VALUE=DURATION:PT1H
X-Robots-Tag:noindex
X-PUBLISHED-TTL:PT1H
BEGIN:VTIMEZONE
TZID:UTC
BEGIN:STANDARD
TZOFFSETFROM:+0000
TZOFFSETTO:+0000
TZNAME:UTC
DTSTART:20200101T000000
END:STANDARD
END:VTIMEZONE
BEGIN:VEVENT
DTSTART;VALUE=DATE:20211001
DTEND;VALUE=DATE:20211007
DTSTAMP:20260420T130347
CREATED:20210712T065900Z
LAST-MODIFIED:20210712T070348Z
UID:60098-1633046400-1633564799@isocarp.org
SUMMARY:Tirana Design Weeks 2021
DESCRIPTION:As part of the TDW2021\, the “Post-Pandemic Right to the City” international conference (https://tiranadesignweek.com/?page_id=64)\, will host distinguished keynote and guest speakers\, panel debates\, 8 thematic sessions\, and also pitching sessions for those willing to share innovative ideas\, projects\, or design prototypes from October 1-6\, 2021. \nThis year’s TDW theme is “Health and Wellbeing in the post-Pandemic City”\, triggered by a difficult year we left behind and challenges ahead of us. \nWe invite you to actively participate in the conference\, by applying with your abstract\, or concept for pitching sessions\, or paper. \nSubmission of papers is optional for presenting participants. For those willing to submit a paper\, peer reviewed publication access will be provided in the two POLIS University journals: https://forumap.org and http://www.co-plan.org/en/tg-review/. \nIMPORTANT dates: \n\na) The early bird: by April 15\, 2021. \nb) Regular abstract/concept submission: by May 15\, 2021.\nc) Full paper submission (optional): by July 31\, 2021.\nd) Regular registration: by June 30\, 2021.\n\nHOW to APPLY? \nThis is a two-step process: First submission of abstracts/concepts; Then registration\, upon acceptance of abstract/concept. \n\nTo make a submission\, please go to: https://tiranadesignweek.com/?page_id=84.\nTo Register\, please go to: https://tiranadesignweek.com/?page_id=105\n\nPlease\, stay tuned for further information on the program and other very interesting TDW events.
URL:https://isocarp.org/event/tirana-2021/
ATTACH;FMTTYPE=image/png:https://isocarp.org/app/uploads/2021/04/TDW21_WebsiteBanner-1.png
END:VEVENT
BEGIN:VEVENT
DTSTART;VALUE=DATE:20211001
DTEND;VALUE=DATE:20211007
DTSTAMP:20260420T130347
CREATED:20210712T071437Z
LAST-MODIFIED:20210712T071437Z
UID:60106-1633046400-1633564799@isocarp.org
SUMMARY:“Post-Pandemic Right to the City” international conference
DESCRIPTION:October 1-6\, 2021\nTirana\, Albania\nThis conference invites scholars\, students\, professionals and even activists in the domains of city making\, into a deliberative debate on the right to the city post-pandemic. In 2021\, the figures of the pandemic will only increase and perhaps reach a peak. But a post-pandemic mentality should be encouraged earlier rather than latter\, for people to engage into reflexion and forward-thinking on how to heal the weaknesses of the city as a human co-creation\, and spur its strengths for liveability and resilience. The ethical and morality grounds of decisions and behaviour in the post-pandemic city stand at the core of the discourse on how the right to the city may transform after a crisis. \nFor more information\, click here.
URL:https://isocarp.org/event/post-pandemic-right-to-the-city-international-conference/
ATTACH;FMTTYPE=image/png:https://isocarp.org/app/uploads/2021/04/TDW21_WebsiteBanner-1.png
END:VEVENT
BEGIN:VEVENT
DTSTART;VALUE=DATE:20211004
DTEND;VALUE=DATE:20211007
DTSTAMP:20260420T130347
CREATED:20210923T082230Z
LAST-MODIFIED:20210923T083522Z
UID:61102-1633305600-1633564799@isocarp.org
SUMMARY:Urban Economy Forum 2021
DESCRIPTION:Third Urban Economy forum to be held as a virtual gathering on 4\, 5\, and 6th of October 2021 in Brampton on occasion of UN World Habitat Day and the International Year of Creative Economy for Sustainable Development. \n  \nThe annual Urban Economy Forum is the largest global gathering on building practical approaches for sustainable urban economies and resources. \nThe Urban Economy Forum (UEF)\, in collaboration with UN-Habitat\, and Co-hosted by the City of Brampton\, is organizing the third “Urban Economy Forum 2021” virtually on October 4\, 5\, & 6\, 2021 in Brampton\, Canada on occasion of the World Habitat Day and the International Year of Creative Economy for Sustainable Development. The Forum’s main theme will be “Housing and Urban Recovery” and the practical approaches needed to move toward more sustainable urban economies. UEF 2021 is delighted to have Dr. Eduardo Moreno\, Head of Knowledge and Innovation of UN-Habitat\, as the Honourary Chair. \nUEF’s mission is to work alongside local authorities and international organizations to promote and enhance the achievement of the 17 sustainable development goals (SDGs)\, and in particular SDG11: sustainable cities and communities\, by developing and testing innovative ideas in urbanism. In identifying new and different ways of managing cities\, UEF aims to learn what works best and why\, and to share this knowledge and other practical approaches with cities and towns globally. \nUEF 2020\, last year’s Forum\, was a great success with more than 160 speakers from Canada and around the world from various disciplines including mayors\, city leaders\, government officials\, private sector\, NGO representatives and the general public. \nUEF 2021 will continue to bring together the expertise and knowledge from leading institutions and individuals to connect theory to policies and actions and demonstrate innovative solutions through case studies and best practices on sustainable housing and development. Specifically\, the Forum will highlight the interconnectedness between housing and homelessness and the economic\, social\, cultural and environmental dimensions of our cities and towns. It will also focus attention on the intersection between converging crises\, such as COVID-19\, climate and environmental emergencies and the housing crisis and begin the dialogue on how these elements are interrelated to urban economies around the world. \nCOVID-19 continues to create unprecedented challenges for cities and towns globally in the way we interact\, live\, play\, study and work. The structural problems associated to housing have been further impacted by COVID-19. The pandemic also presents a glimpse of the potentially irreparable consequences of the climate and environmental emergencies if we do not act now and in a decisive manner. UEF 2021 will emphasise the urgency for global action and the need to pursue the shared Global Agenda for Sustainable Development. \nThis year the Urban Economy Forum is honoured to host ministers\, mayors and high profile government and non-government individuals and organizations to contribute to the important conversation on housing and urban recovery together with the following sub-themes: \n\nHousing and urban economy: building forward better in a world with pandemics\nUrban economy and the global pandemic\nClimate change and urban economy\nInnovation\, governance and the urban economy – rethinking urban paradigms\nPublic participation and community empowerment for equitable economic growth\n\nThe 3rd Urban Economy Forum also recognizes the importance of towns and small cities in this conversation. \nWe welcome all urban leaders\, practitioners\, academics\, private sector\, civil society\, and the public who are committed to realizing a more sustainable urban economy to join us at UEF 2021. Please visit our website for more information on UEF 2021 and to Register for this exciting event. \nFollow us on social media at LinkedIn\, Twitter\, and Instagram.
URL:https://isocarp.org/event/urban-economy-forum-2021/
LOCATION:Online
ATTACH;FMTTYPE=image/png:https://isocarp.org/app/uploads/2021/09/UEF-2021-e1632386106349.png
END:VEVENT
END:VCALENDAR