BEGIN:VCALENDAR
VERSION:2.0
PRODID:-//ISOCARP - ECPv6.15.20//NONSGML v1.0//EN
CALSCALE:GREGORIAN
METHOD:PUBLISH
X-WR-CALNAME:ISOCARP
X-ORIGINAL-URL:https://isocarp.org
X-WR-CALDESC:Events for ISOCARP
REFRESH-INTERVAL;VALUE=DURATION:PT1H
X-Robots-Tag:noindex
X-PUBLISHED-TTL:PT1H
BEGIN:VTIMEZONE
TZID:UTC
BEGIN:STANDARD
TZOFFSETFROM:+0000
TZOFFSETTO:+0000
TZNAME:UTC
DTSTART:20200101T000000
END:STANDARD
END:VTIMEZONE
BEGIN:VEVENT
DTSTART;VALUE=DATE:20211011
DTEND;VALUE=DATE:20211015
DTSTAMP:20260420T101307
CREATED:20210901T105916Z
LAST-MODIFIED:20210922T081326Z
UID:61046-1633910400-1634255999@isocarp.org
SUMMARY:Healthy City Design 2021 International Congress
DESCRIPTION:The 5th Healthy City Design 2021 (HCD2021) International Congress will be held virtually from 11 – 14 October. Organised by SALUS Global Knowledge Exchange and The Helen Hamlyn Centre for Design\, Royal College of Art\, the congress is the world’s leading forum for the exchange of knowledge on the research\, policy and practice of designing healthy and sustainable cities and communities. \nThe congress is organised in partnership with the world’s leading expert bodies and networks from across the fields of urban design and planning\, housing\, transport and mobility\, workplace and planetary health. \nMore information \n\nDownload the programme here.\nDiscover more here.\n\nTickets \n\nOnline registrations here.\n\nDiscounts\n \n\nGet your Early Bird Ticket before September 16\, 2021 October 1\, 2021 (EXTENDED DEADLINE).\nDiscover the discounts for groups of 3 attendees (15%)\, 5 attendees (20%)\, +9 attendees (25%).\nISOCARP members have a 20% discount for the 4-day tickets (please contact info@salus.global to obtain the discount code).
URL:https://isocarp.org/event/healthy-city-design-2021-international-congress/
LOCATION:Online
ATTACH;FMTTYPE=image/jpeg:https://isocarp.org/app/uploads/2021/09/HCD2021-Discount-Extended-Early-bird-ISOCARP-scaled.jpg
END:VEVENT
END:VCALENDAR