BEGIN:VCALENDAR
VERSION:2.0
PRODID:-//ISOCARP - ECPv6.15.20//NONSGML v1.0//EN
CALSCALE:GREGORIAN
METHOD:PUBLISH
X-ORIGINAL-URL:https://isocarp.org
X-WR-CALDESC:Events for ISOCARP
REFRESH-INTERVAL;VALUE=DURATION:PT1H
X-Robots-Tag:noindex
X-PUBLISHED-TTL:PT1H
BEGIN:VTIMEZONE
TZID:UTC
BEGIN:STANDARD
TZOFFSETFROM:+0000
TZOFFSETTO:+0000
TZNAME:UTC
DTSTART:20200101T000000
END:STANDARD
END:VTIMEZONE
BEGIN:VTIMEZONE
TZID:Europe/Paris
BEGIN:DAYLIGHT
TZOFFSETFROM:+0100
TZOFFSETTO:+0200
TZNAME:CEST
DTSTART:20200329T010000
END:DAYLIGHT
BEGIN:STANDARD
TZOFFSETFROM:+0200
TZOFFSETTO:+0100
TZNAME:CET
DTSTART:20201025T010000
END:STANDARD
BEGIN:DAYLIGHT
TZOFFSETFROM:+0100
TZOFFSETTO:+0200
TZNAME:CEST
DTSTART:20210328T010000
END:DAYLIGHT
BEGIN:STANDARD
TZOFFSETFROM:+0200
TZOFFSETTO:+0100
TZNAME:CET
DTSTART:20211031T010000
END:STANDARD
BEGIN:DAYLIGHT
TZOFFSETFROM:+0100
TZOFFSETTO:+0200
TZNAME:CEST
DTSTART:20220327T010000
END:DAYLIGHT
BEGIN:STANDARD
TZOFFSETFROM:+0200
TZOFFSETTO:+0100
TZNAME:CET
DTSTART:20221030T010000
END:STANDARD
END:VTIMEZONE
BEGIN:VEVENT
DTSTART;VALUE=DATE:20211108
DTEND;VALUE=DATE:20211110
DTSTAMP:20260420T101727
CREATED:20210929T132914Z
LAST-MODIFIED:20211001T075044Z
UID:61155-1636329600-1636502399@isocarp.org
SUMMARY:Save the date - World Planning Day 2021
DESCRIPTION:World PLanning Day 2021\nStrengthening the Co-production Paradigm in Planning\n(Promoting Government and Citizen Partnerships) \nCo-production occurs when citizens participate actively in delivering and designing the services they receive. It has come increasingly onto the agenda of decision-makers\, as interest in citizen participation has more generally soared. Expectations are high\, and it is regarded as a possible solution to the public sector’s decreased legitimacy and dwindling resources by accessing more of society’s capacities. In addition\, it is seen as part of a more general drive to reinvigorate voluntary participation and strengthen social cohesion in an increasingly fragmented and individualized society. \nEngaging Citizens in Public Services offers a systematic and comprehensive theoretical and empirical examination of the co-production concept and its application in practice. Over the years\, the South African Planning and Institutional system has established very critical and essential instruments (Integrated Development Plan – IDP\, Spatial Development Framework – SDF) and legislation (Spatial Planning and Land Use Management Act – SPLUMA (No. 16 of 2013) that requires a critical interface between the people for whom plans are being provided and the Planners who are responsible for design and implementation of the plans as well as the decision-makers who are responsible for funding and implementing these plans. However\, the downside of this issue is the poor state of implementation and follow-up on the essential requirements of these infrastructure and services Co-production processes utilizing the available instruments. Hence\, the 2021 World Planning Day explores the variegated methods available in reviewing\, testing\, and further considering the co-production paradigm in planning in the South African context. \nGiven this drive\, for a deeper understanding of Infrastructure co-production and the ways to re-enforce the process of implementation of the co-production paradigm in spatial planning\, eThekwini Municipality\, University of KwaZulu-Natal (UKZN)\, South African Council for Planners\, International\nSociety Of City And Regional Planners (ISOCARP)\, South African Local Government Association (SALGA)\, and the South African Cities Network(SACN) are hosting a symposium titled: Strengthening the Co-Production Paradigm in Planning\, as the Theme for the 2021 World Planning Day. This event will bring together various stakeholders in town planning\, researchers\, academics\, decision-makers and\, professional planners\, administration\, economists\, and people from the fields of political science\, public management\, service management\, voluntary sector studies\, Environmental activists\, and other vital stakeholders in the built environment. \nThis year World Planning Day will take place 8th and 9th of November 2021. It shall be a virtual symposium. Presenters across the Globe will be invited to address of symposium\, thus creating an international learning and sharing platform. Four breakaway rooms will be set up to allow focussed and thought-provoking discussion on the four subtitles\, which are as follows: \nRoom 1: understanding the institutional framework for co-production and its ability to deliver sustainable infrastructure\nRoom 2: planning and economic development: how true are we to co-production in our plan-making\nRoom 3: promoting the healthy cities: balancing community needs with planning and the environment\nRoom 4: building resilience cities (climate change\, disaster reduction and mitigation; and city adaptation measures) \nClick here to register.
URL:https://isocarp.org/event/save-the-date-world-planning-day-2021/
LOCATION:Online
ATTACH;FMTTYPE=image/jpeg:https://isocarp.org/app/uploads/2021/09/RSVP-World-Planning-WEBINAR_89-NOV-2021-.jpg
END:VEVENT
BEGIN:VEVENT
DTSTART;TZID=Europe/Paris:20211108T160000
DTEND;TZID=Europe/Paris:20211108T210000
DTSTAMP:20260420T101727
CREATED:20211031T094633Z
LAST-MODIFIED:20211031T094633Z
UID:61549-1636387200-1636405200@isocarp.org
SUMMARY:Round table: Proposals to Strengthen Resilience and Sustainable Urban Development in the face of Climate Change in Latin America
DESCRIPTION:Round table: Proposals to Strengthen Resilience and Sustainable Urban Development in the face of Climate Change in Latin America\nNovember 8\, 2021 – 16:00 CET\nOnline \nThe event seeks to evaluate how the cities of Latin America (in Peru\, Venezuela and the Caribbean\, Brazil\, Mexico and Argentina) face the challenge of adapting to climate change and what changes and policy options they can implement to strengthen their role to meet this global phenomenon. The speakers (experts from the countries mentioned above) will quickly present the successes and failures of Latin American cities. They will answer the questions: What changes must be generated to prepare Latin American cities for climate change? How to accelerate things so that Latin American cities can fully adapt and be resilient in facing climate change? \nSpeakers \n\nErick Reyes\, President of the Society of Urban Planners of Peru\nPoul Knudsen\, President of IULAC\, Urban Planning Institute of Latin America and the Caribbean\nEmilio Merino\, Counselor of the Brazilian Council of Architecture and Urbanism\nCarlos Gil-Garcia\, Estado de Hidalgo\, Mexico\nCarlos LUCCA\, Institute for Research and Training in Public Administration. National University of Córdoba\, Argentina\nVladimir Arana\, International Secretariat for Water\n\nFor registration: www.iulac.org/08nov
URL:https://isocarp.org/event/round-table-proposals-to-strengthen-resilience-and-sustainable-urban-development-in-the-face-of-climate-change-in-latin-america/
LOCATION:Online
ATTACH;FMTTYPE=image/jpeg:https://isocarp.org/app/uploads/2021/10/NEW-BANNER-MESA-IULAC-DIA-DEL-URBANISMO.jpg
END:VEVENT
END:VCALENDAR