BEGIN:VCALENDAR
VERSION:2.0
PRODID:-//ISOCARP - ECPv6.15.20//NONSGML v1.0//EN
CALSCALE:GREGORIAN
METHOD:PUBLISH
X-WR-CALNAME:ISOCARP
X-ORIGINAL-URL:https://isocarp.org
X-WR-CALDESC:Events for ISOCARP
REFRESH-INTERVAL;VALUE=DURATION:PT1H
X-Robots-Tag:noindex
X-PUBLISHED-TTL:PT1H
BEGIN:VTIMEZONE
TZID:UTC
BEGIN:STANDARD
TZOFFSETFROM:+0000
TZOFFSETTO:+0000
TZNAME:UTC
DTSTART:20200101T000000
END:STANDARD
END:VTIMEZONE
BEGIN:VEVENT
DTSTART;TZID=UTC:20210830T180000
DTEND;TZID=UTC:20210903T200000
DTSTAMP:20260420T144110
CREATED:20210824T053823Z
LAST-MODIFIED:20210824T111210Z
UID:60776-1630346400-1630699200@isocarp.org
SUMMARY:New Materials\, New Ornaments
DESCRIPTION:This workshop and the cycle of conferences is part of the international network «Post-Mining\, Architecture\, Landscape\, Design» which focuses on design and research tools involving local communities. It proposes to explore the great diversity of eco-materials in a post-carbon world. \nThis investigation into the aesthetic universe of matter and ornament will take place in the maze of the Venetian city. The students will work with locals and volunteers from civil society in the public space\, in order to create prototypes of new materials and try to exhaust their plastic properties. All these works will be exhibited in Palazzo Michiel on September 4th\, 2021. \nThe cycle of conferences will take place from August 30 until September 3 from 18:00 to 20:00 and will focus on such topics as architectural ornament\, medieval woodwork\, architectural design and bio-based materials and many others. \nDiscover more in the program.
URL:https://isocarp.org/event/new-materials-new-ornaments/
LOCATION:PALAZZO MICHIEL\, 4391 Strada Nova - 30121 Campo Santi Apostoli\, Venice\, Italy
ATTACH;FMTTYPE=image/jpeg:https://isocarp.org/app/uploads/2021/08/NewMaterials-NewOrnaments-banner1-scaled.jpg
END:VEVENT
BEGIN:VEVENT
DTSTART;VALUE=DATE:20210716
DTEND;VALUE=DATE:20210717
DTSTAMP:20260420T144110
CREATED:20210712T062234Z
LAST-MODIFIED:20210712T072737Z
UID:60080-1626393600-1626479999@isocarp.org
SUMMARY:Urban Lab Session: Championing Local Green Deals
DESCRIPTION:Championing Local Green Deals\nOnline | July 16\, 2021\nThe Urban Lab Session “Championing Local Green Deals” will take place online on 16th July\, 9.30-11.00 CEST. The event is coordinated by ISOCARP Institute and it is part of the 3-day Urban Thinker Campus “A Local Green Deal”\, organised by Studieninstitut Rhein-Neckar (Mannheim\, Germany). \nThrough the European Green Deal\, the European Union has set the ambitious target of becoming the first carbon-neutral continent by 2050.  The European Green Deal includes various actions\, measures and tools in nine policy areas (such as clean energy\, sustainable mobility\, biodiversity\, etc.). However\, it is crucial to transform the direction given by the Green Deal into local actionable projects and concrete interventions. Following Mannheim’s input and effort to develop a Local Green Deal Mannheim\, this Urban Lab Session will collect and discuss valuable practices and experiences in the implementation of Local Green Deals. \nMore information on how to register as a participant or contributor here!
URL:https://isocarp.org/event/urban-lab-session-championing-local-green-deals/
ATTACH;FMTTYPE=image/gif:https://isocarp.org/app/uploads/2021/07/UTC-Mannheim-Banner-General-GIF.gif
END:VEVENT
BEGIN:VEVENT
DTSTART;VALUE=DATE:20210706
DTEND;VALUE=DATE:20210709
DTSTAMP:20260420T144110
CREATED:20210706T072814Z
LAST-MODIFIED:20210706T080615Z
UID:59935-1625529600-1625788799@isocarp.org
SUMMARY:17th International Conference on Urban Health 2021
DESCRIPTION:Transforming our Collective Urban Future: Learning from COVID-19\nOnline | July 6-8\, 2021 The International Society for Urban Health (ISUH) is delighted to invite you to join its 17th International Conference on Urban Health: 2021 hosted online by SALURBAL and project partners across Latin America. Join its international network of interdisciplinary urban health researchers\, policymakers\, business leaders\, practitioners\, and grassroots community advocates to exchange ideas\, advance research\, and drive action across sectors\, transforming urban environments to promote health and environmental sustainability as we rethink urban health in the context of COVID-19. \nCall for submissionsPresent your research at an interactive conference\, directly from your desktop or mobile device: live-stream your presentation and take part in discussion through live Q&A and poster sessions. \nAbstracts are invited by April 19\, 2021 for contributions for workshops\, panels\, talks and posters on the following core themes: \nUrban health inequities\nTransforming built environments\nGovernance and public health systems\nUrban health over the lifecourse\nClimate and urban health\nUrban health in Latin America and the Caribbean
URL:https://isocarp.org/event/17th-international-conference-on-urban-health-2021/
ATTACH;FMTTYPE=image/png:https://isocarp.org/app/uploads/2021/07/banner-1200x156-1.png
END:VEVENT
END:VCALENDAR